BEGIN:VCALENDAR
PRODID:-//eluceo/ical//2.0/EN
VERSION:2.0
CALSCALE:GREGORIAN
BEGIN:VEVENT
UID:assistexpo.ca/calendar/b2Fhcw/MjAyNg/b2Fhcw/p/7301066
DTSTAMP:20260109T224420Z
SUMMARY:Clinton Spring Fair
DESCRIPTION:Theme: "So Much Fun\, It's almost unFair!" at the Clinton Sprin
 g Fair . June 5th - Demolition Derby\, Ambassador Competition\, Homecraft 
 exhibits open\, Midway at night. June 6th- Saturday - Family Day\, Homecra
 ft\, Elementary\, Annual National Barrel Horse Association competitions\, 
 Demolition Derby\, Baby show\, youth activities\; June 7th-Sunday - midway
  and StoneBoat Pullers. See Facebook &amp\; Website for information.
URL:https://newsite.oaasfairs.com/fairs/7301066/
DTSTART;VALUE=DATE:20260605
DTEND;VALUE=DATE:20260608
LOCATION:239 Bill Fleming Dr\, Clinton\, ON N0M 1L0\, Canada
GEO:43.623146;-81.533844
X-APPLE-STRUCTURED-LOCATION;VALUE=URI;X-ADDRESS=239 Bill Fleming Dr\, Clint
 on\, ON N0M 1L0\, Canada;X-APPLE-RADIUS=49;X-TITLE=:geo:43.623146,-81.5338
 44
END:VEVENT
END:VCALENDAR
